BEGIN:VCALENDAR
VERSION:2.0
PRODID:-//Xundheitsakademie - ECPv4.9.2//NONSGML v1.0//EN
CALSCALE:GREGORIAN
METHOD:PUBLISH
X-WR-CALNAME:Xundheitsakademie
X-ORIGINAL-URL:https://www.xundheitsakademie.at/WP
X-WR-CALDESC:Veranstaltungen im Xundheitsakademie
BEGIN:VEVENT
DTSTART;VALUE=DATE:20240117
DTEND;VALUE=DATE:20240118
DTSTAMP:20260423T014406
CREATED:20231213T201257Z
LAST-MODIFIED:20231213T201413Z
UID:19297-1705449600-1705535999@www.xundheitsakademie.at
SUMMARY:Mobbing | STMK+ONL 17.01.
DESCRIPTION:  \n\n\n\n\n\n\n
URL:https://www.xundheitsakademie.at/WP/event/mobbing-0nline-17-01/
LOCATION:Neumarkt / Stmk.\, Hauptplatz 31\, Neumarkt\, Steiermark\, 8820\, Österreich
END:VEVENT
BEGIN:VEVENT
DTSTART;VALUE=DATE:20240117
DTEND;VALUE=DATE:20240120
DTSTAMP:20260423T014406
CREATED:20231213T201904Z
LAST-MODIFIED:20231213T204752Z
UID:19302-1705449600-1705708799@www.xundheitsakademie.at
SUMMARY:Allergie & Burnout & Mobbing | ONL 17.-19.01.
DESCRIPTION:  \n\n\n\n\n\n\n
URL:https://www.xundheitsakademie.at/WP/event/allergie-burnout-mobbing-0nline-17-01/
LOCATION:Neumarkt / Stmk.\, Hauptplatz 31\, Neumarkt\, Steiermark\, 8820\, Österreich
END:VEVENT
END:VCALENDAR