BEGIN:VCALENDAR
VERSION:2.0
PRODID:-//Xundheitsakademie - ECPv4.9.2//NONSGML v1.0//EN
CALSCALE:GREGORIAN
METHOD:PUBLISH
X-WR-CALNAME:Xundheitsakademie
X-ORIGINAL-URL:https://www.xundheitsakademie.at/WP
X-WR-CALDESC:Veranstaltungen im Xundheitsakademie
BEGIN:VEVENT
DTSTART;VALUE=DATE:20230816
DTEND;VALUE=DATE:20230818
DTSTAMP:20260424T044914
CREATED:20230531T175119Z
LAST-MODIFIED:20230620T074402Z
UID:18899-1692144000-1692316799@www.xundheitsakademie.at
SUMMARY:Hypnose Coach | Ktn. 16.-17.08.
DESCRIPTION:  \n\n\n\n\n\n\n
URL:https://www.xundheitsakademie.at/WP/event/hypnose-coach-ktn-16-08/
LOCATION:Kärnten\, Westuferstraße 38\, St. Kanzian\, Kärnten\, 9122\, Österreich
END:VEVENT
BEGIN:VEVENT
DTSTART;VALUE=DATE:20230816
DTEND;VALUE=DATE:20230818
DTSTAMP:20260424T044914
CREATED:20230531T180624Z
LAST-MODIFIED:20230531T180753Z
UID:18912-1692144000-1692316799@www.xundheitsakademie.at
SUMMARY:Beziehungs- & Konfliktmanagement - Coach | ONLINE 16.-17.08.
DESCRIPTION:  \n\n\n\n\n\n\n
URL:https://www.xundheitsakademie.at/WP/event/beziehungs-konfliktmanagement-coach-online-16-08/
LOCATION:ONLINE\, via ZOOM\, Kärnten\, Österreich
END:VEVENT
END:VCALENDAR