BEGIN:VCALENDAR
VERSION:2.0
PRODID:-//Xundheitsakademie - ECPv4.9.2//NONSGML v1.0//EN
CALSCALE:GREGORIAN
METHOD:PUBLISH
X-WR-CALNAME:Xundheitsakademie
X-ORIGINAL-URL:https://www.xundheitsakademie.at/WP
X-WR-CALDESC:Veranstaltungen im Xundheitsakademie
BEGIN:VEVENT
DTSTART;VALUE=DATE:20230814
DTEND;VALUE=DATE:20230816
DTSTAMP:20260424T081215
CREATED:20230612T203215Z
LAST-MODIFIED:20230710T095142Z
UID:18969-1691971200-1692143999@www.xundheitsakademie.at
SUMMARY:Aura-Chirurgie 1 | Ktn. 14.-15.08.
DESCRIPTION:
URL:https://www.xundheitsakademie.at/WP/event/aura-chirurgie1-14-08/
LOCATION:Kärnten\, Westuferstraße 38\, St. Kanzian\, Kärnten\, 9122\, Österreich
END:VEVENT
END:VCALENDAR