BEGIN:VCALENDAR
VERSION:2.0
PRODID:-//Xundheitsakademie - ECPv4.9.2//NONSGML v1.0//EN
CALSCALE:GREGORIAN
METHOD:PUBLISH
X-WR-CALNAME:Xundheitsakademie
X-ORIGINAL-URL:https://www.xundheitsakademie.at/WP
X-WR-CALDESC:Veranstaltungen im Xundheitsakademie
BEGIN:VEVENT
DTSTART;VALUE=DATE:20220520
DTEND;VALUE=DATE:20220523
DTSTAMP:20260422T132342
CREATED:20220429T152816Z
LAST-MODIFIED:20220429T152946Z
UID:18259-1653004800-1653263999@www.xundheitsakademie.at
SUMMARY:Systemischer & Psychoenergetischer-Coach | Online 20.05.-22.05.
DESCRIPTION:  \n\n\n\n\n\n\n
URL:https://www.xundheitsakademie.at/WP/event/systemischer-psychoenergetischer-coach-20-05/
LOCATION:Kärnten\, Westuferstraße 38\, St. Kanzian\, Kärnten\, 9122\, Österreich
END:VEVENT
END:VCALENDAR