BEGIN:VCALENDAR
VERSION:2.0
PRODID:-//Xundheitsakademie - ECPv4.9.2//NONSGML v1.0//EN
CALSCALE:GREGORIAN
METHOD:PUBLISH
X-WR-CALNAME:Xundheitsakademie
X-ORIGINAL-URL:https://www.xundheitsakademie.at/WP
X-WR-CALDESC:Veranstaltungen im Xundheitsakademie
BEGIN:VEVENT
DTSTART;VALUE=DATE:20220425
DTEND;VALUE=DATE:20220428
DTSTAMP:20260422T102514
CREATED:20220220T122007Z
LAST-MODIFIED:20220220T122134Z
UID:18082-1650844800-1651103999@www.xundheitsakademie.at
SUMMARY:Motivations- & Mentaltrainer & Erfolgs - Coach | Stmk. 25.-27.04.
DESCRIPTION:  \n\n\n\n\n\n\n
URL:https://www.xundheitsakademie.at/WP/event/motivations-mentaltrainer-erfolgs-coach-stmk-25-27-04/
LOCATION:Neumarkt / Stmk.\, Hauptplatz 31\, Neumarkt\, Steiermark\, 8820\, Österreich
END:VEVENT
END:VCALENDAR